BEGIN:VCALENDAR
VERSION:2.0
PRODID:-//WebSYS//Calendario de Eventos//ES
CALSCALE:GREGORIAN
METHOD:PUBLISH
X-WR-CALNAME:Eventos WebSYS
X-WR-TIMEZONE:America/Mexico_City
X-WR-CALDESC:Calendario de eventos y cursos de WebSYS
BEGIN:VTIMEZONE
TZID:America/Mexico_City
X-LIC-LOCATION:America/Mexico_City
BEGIN:STANDARD
TZOFFSETFROM:-0500
TZOFFSETTO:-0600
TZNAME:CST
DTSTART:19701025T020000
RRULE:FREQ=YEARLY;BYMONTH=10;BYDAY=-1SU
END:STANDARD
BEGIN:DAYLIGHT
TZOFFSETFROM:-0600
TZOFFSETTO:-0500
TZNAME:CDT
DTSTART:19700405T020000
RRULE:FREQ=YEARLY;BYMONTH=4;BYDAY=1SU
END:DAYLIGHT
END:VTIMEZONE
BEGIN:VEVENT
UID:evento-728@websys.com.mx
DTSTAMP:20260422T171918Z
DTSTART;TZID=America/Mexico_City:20160704T090000
DTEND;TZID=America/Mexico_City:20160706T090000
SUMMARY:Certificaci&oacute\\;n Avanzada en Sistema de Detecci&oacute\\;n de Incendio FireNET - Hochiki
DESCRIPTION:Entrenamiento avanzado dise&ntilde\\;ado para personal t&eacute\\;cnico e ingenier&iacute\\;a\\, explicar&aacute\\; la instalaci&oacute\\;n\\, dise&ntilde\\;o y programaci&oacute\\;n de los sistemas inteligentes de detecci&oacute\\;n de incendio FireNet de HOCHIKI.\\nHorario: 09:00 a 13:00 - 14:30 a 18:00 \\n\\nObjetivo: Al t&eacute\\;rmino de la certificaci&oacute\\;n el participante conocer&aacute\\; la programaci&oacute\\;n y conexi&oacute\\;n del sistema de detecci&oacute\\;n de incendio an&aacute\\;logo direccionable FireNET de HOCHIKI.\\nDirigido a: Todos los clientes de SYSCOM involucrados en los sistemas de detecci&oacute\\;n de incendio\\, que deseen especializarse en el sistema de detecci&oacute\\;n de incendio an&aacute\\;logo direccionable FireNET de HOCHIKI\\n\\nMás información: https://www.syscom.mx/eventos/info/programa/728
LOCATION:Ciudad de M&eacute\\;xico\\, Sucursal Sur\\, CDMX\\, México
URL:https://www.syscom.mx/eventos/info/programa/728
CATEGORIES:Sistemas de Detecci&oacute\\;n de Incendio
STATUS:CONFIRMED
TRANSP:OPAQUE
SEQUENCE:0
END:VEVENT
END:VCALENDAR
