BEGIN:VCALENDAR
VERSION:2.0
PRODID:-//WebSYS//Calendario de Eventos//ES
CALSCALE:GREGORIAN
METHOD:PUBLISH
X-WR-CALNAME:Eventos WebSYS
X-WR-TIMEZONE:America/Mexico_City
X-WR-CALDESC:Calendario de eventos y cursos de WebSYS
BEGIN:VTIMEZONE
TZID:America/Mexico_City
X-LIC-LOCATION:America/Mexico_City
BEGIN:STANDARD
TZOFFSETFROM:-0500
TZOFFSETTO:-0600
TZNAME:CST
DTSTART:19701025T020000
RRULE:FREQ=YEARLY;BYMONTH=10;BYDAY=-1SU
END:STANDARD
BEGIN:DAYLIGHT
TZOFFSETFROM:-0600
TZOFFSETTO:-0500
TZNAME:CDT
DTSTART:19700405T020000
RRULE:FREQ=YEARLY;BYMONTH=4;BYDAY=1SU
END:DAYLIGHT
END:VTIMEZONE
BEGIN:VEVENT
UID:evento-193618@websys.com.mx
DTSTAMP:20260422T141735Z
DTSTART;TZID=America/Mexico_City:20260422T090000
DTEND;TZID=America/Mexico_City:20260422T090000
SUMMARY:Akuvox / Akubela. Soluciones de videoportero\\, control de acceso y automatizaci&oacute\\;n en la nube
DESCRIPTION:El curso es una capacitaci&oacute\\;n t&eacute\\;cnico-comercial sobre el funcionamiento de los dispositivos Akuvox y Akubela\\, enfocada en videoporteros\\, control de acceso y automatizaci&oacute\\;n inteligente. Se abordar&aacute\\; la instalaci&oacute\\;n\\, configuraci&oacute\\;n paso a paso e integraci&oacute\\;n de ambos ecosistemas para proyectos residenciales\\, multifamiliares y corporativos.\\nHorario: 09:00 a 13:00 - 14:30 a 17:00\\n\\nObjetivo: Al t&eacute\\;rmino del curso\\, el participante ser&aacute\\; capaz de instalar\\, configurar y poner en marcha dispositivos de control de acceso Akuvox y soluciones de automatizaci&oacute\\;n Akubela. Adem&aacute\\;s\\, podr&aacute\\; vincular los equipos con sus aplicaciones m&oacute\\;viles (Smart Plus y Bela Home)\\, realizar integraciones con sistemas de seguridad y crear escenarios de automatizaci&oacute\\;n que mejoren la experiencia del usuario final.\\nDirigido a:  A instaladores\\, integradores y profesionales que se encuentren en su primera instalaci&oacute\\;n de soluciones Akuvox y Akubela de control de acceso o automatizaci&oacute\\;n\\, as&iacute\\; como a quienes buscan reforzar sus conocimientos en tecnolog&iacute\\;as IP aplicadas a proyectos residenciales y corporativos.\\nInstructor: Humberto Sánchez González\\n\\nMÃ¡s informaciÃ³n: https://www.syscom.mx/eventos/info/programa/193618
LOCATION:Guadalajara\\, Jal\\, MÃ©xico
URL:https://www.syscom.mx/eventos/info/programa/193618
ORGANIZER;CN=Humberto Sánchez González:mailto:info@websys.com.mx
CATEGORIES:Sistemas de Control de Acceso
STATUS:CONFIRMED
TRANSP:OPAQUE
SEQUENCE:0
END:VEVENT
END:VCALENDAR
