BEGIN:VCALENDAR
VERSION:2.0
PRODID:-//WebSYS//Calendario de Eventos//ES
CALSCALE:GREGORIAN
METHOD:PUBLISH
X-WR-CALNAME:Eventos WebSYS
X-WR-TIMEZONE:America/Mexico_City
X-WR-CALDESC:Calendario de eventos y cursos de WebSYS
BEGIN:VTIMEZONE
TZID:America/Mexico_City
X-LIC-LOCATION:America/Mexico_City
BEGIN:STANDARD
TZOFFSETFROM:-0500
TZOFFSETTO:-0600
TZNAME:CST
DTSTART:19701025T020000
RRULE:FREQ=YEARLY;BYMONTH=10;BYDAY=-1SU
END:STANDARD
BEGIN:DAYLIGHT
TZOFFSETFROM:-0600
TZOFFSETTO:-0500
TZNAME:CDT
DTSTART:19700405T020000
RRULE:FREQ=YEARLY;BYMONTH=4;BYDAY=1SU
END:DAYLIGHT
END:VTIMEZONE
BEGIN:VEVENT
UID:evento-192519@websys.com.mx
DTSTAMP:20260425T170906Z
DTSTART;TZID=America/Mexico_City:20250113T090000
DTEND;TZID=America/Mexico_City:20250117T090000
SUMMARY:Certificaci&oacute\\;n T&eacute\\;cnica en Redes de Datos
DESCRIPTION:Conectividad para Todos\\nHorario: 16:00 a 18:00\\n\\nObjetivo: Permitir al participante comprender y manejar redes b&aacute\\;sicas\\, tanto para la conectividad local como remota\\, y te darles herramientas pr&aacute\\;cticas para resolver problemas comunes.\\nDirigido a: Todos los integradores de SYSCOM\\nInstructor: Raúl Aragón Coria\\n\\nMás información: https://www.syscom.mx/eventos/info/programa/192519
LOCATION:VIA\\, WEB\\, México
URL:https://www.syscom.mx/eventos/info/programa/192519
ORGANIZER;CN=Raúl Aragón Coria:mailto:info@websys.com.mx
CATEGORIES:Redes Inal&aacute\\;mbricas
STATUS:CONFIRMED
TRANSP:OPAQUE
SEQUENCE:0
END:VEVENT
END:VCALENDAR
