BEGIN:VCALENDAR
VERSION:2.0
PRODID:-//WebSYS//Calendario de Eventos//ES
CALSCALE:GREGORIAN
METHOD:PUBLISH
X-WR-CALNAME:Eventos WebSYS
X-WR-TIMEZONE:America/Mexico_City
X-WR-CALDESC:Calendario de eventos y cursos de WebSYS
BEGIN:VTIMEZONE
TZID:America/Mexico_City
X-LIC-LOCATION:America/Mexico_City
BEGIN:STANDARD
TZOFFSETFROM:-0500
TZOFFSETTO:-0600
TZNAME:CST
DTSTART:19701025T020000
RRULE:FREQ=YEARLY;BYMONTH=10;BYDAY=-1SU
END:STANDARD
BEGIN:DAYLIGHT
TZOFFSETFROM:-0600
TZOFFSETTO:-0500
TZNAME:CDT
DTSTART:19700405T020000
RRULE:FREQ=YEARLY;BYMONTH=4;BYDAY=1SU
END:DAYLIGHT
END:VTIMEZONE
BEGIN:VEVENT
UID:evento-191419@websys.com.mx
DTSTAMP:20260424T164216Z
DTSTART;TZID=America/Mexico_City:20241112T090000
DTEND;TZID=America/Mexico_City:20241113T090000
SUMMARY:Principios de RF NetPoint en PTP Backhaul 6 GHz
DESCRIPTION:Curso Presencial para ISP&acute\\;s consolidados\\, emprendedores\\, proyectos especiales: Enfoque enmarca NetPoint y tecnolog&iacute\\;as de radio en protocolos WIFI exterior de larga distancia PTPBackhaul para modalidad Hibrida.\\nHorario: 09:00 a 13:00 - 14:30 a 18:00\\n\\nObjetivo: Aprender a optimizar las instalaciones de equipos de telecom de uso rudo diferenciaci&oacute\\;n de equipos de normas IP66\\, IP67 en equipo carrier class de Backhaul y aplicaciones especiales para sectores hoteleros\\, enlaces PTP de tierra a mar\\, prolongar el tiempo de vida de los equipos (Antenas).\\nDirigido a: T&eacute\\;cnicos instaladores\\, empresas de telecomunicaciones e integradores de servicios de red.\\nInstructor: Luis Pablo Suárez\\n\\nMás información: https://www.syscom.mx/eventos/info/programa/191419
LOCATION:Ciudad de M&eacute\\;xico\\, Sucursal Sur\\, CDMX\\, México
URL:https://www.syscom.mx/eventos/info/programa/191419
ORGANIZER;CN=Luis Pablo Suárez:mailto:info@websys.com.mx
CATEGORIES:Redes Inal&aacute\\;mbricas
STATUS:CONFIRMED
TRANSP:OPAQUE
SEQUENCE:0
END:VEVENT
END:VCALENDAR
